BEGIN:VCALENDAR
VERSION:2.0
PRODID:-//Stoneham Historical Society &amp; Museum - ECPv6.15.20//NONSGML v1.0//EN
CALSCALE:GREGORIAN
METHOD:PUBLISH
X-WR-CALNAME:Stoneham Historical Society &amp; Museum
X-ORIGINAL-URL:https://stonehamhistoricalsociety.org
X-WR-CALDESC:Events for Stoneham Historical Society &amp; Museum
REFRESH-INTERVAL;VALUE=DURATION:PT1H
X-Robots-Tag:noindex
X-PUBLISHED-TTL:PT1H
BEGIN:VTIMEZONE
TZID:America/New_York
BEGIN:DAYLIGHT
TZOFFSETFROM:-0500
TZOFFSETTO:-0400
TZNAME:EDT
DTSTART:20250309T070000
END:DAYLIGHT
BEGIN:STANDARD
TZOFFSETFROM:-0400
TZOFFSETTO:-0500
TZNAME:EST
DTSTART:20251102T060000
END:STANDARD
BEGIN:DAYLIGHT
TZOFFSETFROM:-0500
TZOFFSETTO:-0400
TZNAME:EDT
DTSTART:20260308T070000
END:DAYLIGHT
BEGIN:STANDARD
TZOFFSETFROM:-0400
TZOFFSETTO:-0500
TZNAME:EST
DTSTART:20261101T060000
END:STANDARD
BEGIN:DAYLIGHT
TZOFFSETFROM:-0500
TZOFFSETTO:-0400
TZNAME:EDT
DTSTART:20270314T070000
END:DAYLIGHT
BEGIN:STANDARD
TZOFFSETFROM:-0400
TZOFFSETTO:-0500
TZNAME:EST
DTSTART:20271107T060000
END:STANDARD
END:VTIMEZONE
BEGIN:VEVENT
DTSTART;TZID=America/New_York:20260312T190000
DTEND;TZID=America/New_York:20260312T203000
DTSTAMP:20260424T080202
CREATED:20260216T022413Z
LAST-MODIFIED:20260216T022440Z
UID:10000128-1773342000-1773347400@stonehamhistoricalsociety.org
SUMMARY:Whip Hill Memories
DESCRIPTION:Join Jeanne Grieve from the Stoneham Garden Club to learn more about the history and rich architectural detail of Stoneham’s Tudor-style Whip Hill Mansion – and the extraordinary couple who created it. \n\n\n\nThis beautiful Tudor-style mansion was built in the 1930s by James B. and Angie Crockett. The couple made their fortune in rubber products\, inventing new processes to produce rubber goods. They both loved the outdoors\, sailing\, and gardening.  Whip Hill was used as a family residence until 1968 when it was presented to the Town of Stoneham by Mrs. Crockett as a memorial to her husband. The gift of the 30-acre estate created a remarkable natural resource and Whip Hill Park has become a prized recreation area for the enjoyment of all Stoneham residents.
URL:https://stonehamhistoricalsociety.org/event/whip-hill-memories/
LOCATION:Stoneham Historical Society & Museum\, 36 William Street\, Stoneham\, MA\, 02180\, United States
CATEGORIES:Monthly Meeting
ATTACH;FMTTYPE=image/jpeg:https://stonehamhistoricalsociety.org/wp-content/uploads/2026/02/whill-hill-summer.jpg
END:VEVENT
END:VCALENDAR