BEGIN:VCALENDAR
VERSION:2.0
PRODID:-//Stoneham Historical Society &amp; Museum - ECPv6.15.20//NONSGML v1.0//EN
CALSCALE:GREGORIAN
METHOD:PUBLISH
X-WR-CALNAME:Stoneham Historical Society &amp; Museum
X-ORIGINAL-URL:https://stonehamhistoricalsociety.org
X-WR-CALDESC:Events for Stoneham Historical Society &amp; Museum
REFRESH-INTERVAL;VALUE=DURATION:PT1H
X-Robots-Tag:noindex
X-PUBLISHED-TTL:PT1H
BEGIN:VTIMEZONE
TZID:America/New_York
BEGIN:DAYLIGHT
TZOFFSETFROM:-0500
TZOFFSETTO:-0400
TZNAME:EDT
DTSTART:20250309T070000
END:DAYLIGHT
BEGIN:STANDARD
TZOFFSETFROM:-0400
TZOFFSETTO:-0500
TZNAME:EST
DTSTART:20251102T060000
END:STANDARD
BEGIN:DAYLIGHT
TZOFFSETFROM:-0500
TZOFFSETTO:-0400
TZNAME:EDT
DTSTART:20260308T070000
END:DAYLIGHT
BEGIN:STANDARD
TZOFFSETFROM:-0400
TZOFFSETTO:-0500
TZNAME:EST
DTSTART:20261101T060000
END:STANDARD
BEGIN:DAYLIGHT
TZOFFSETFROM:-0500
TZOFFSETTO:-0400
TZNAME:EDT
DTSTART:20270314T070000
END:DAYLIGHT
BEGIN:STANDARD
TZOFFSETFROM:-0400
TZOFFSETTO:-0500
TZNAME:EST
DTSTART:20271107T060000
END:STANDARD
END:VTIMEZONE
BEGIN:VEVENT
DTSTART;TZID=America/New_York:20260409T190000
DTEND;TZID=America/New_York:20260409T203000
DTSTAMP:20260424T080356
CREATED:20260216T151456Z
LAST-MODIFIED:20260216T152551Z
UID:10000129-1775761200-1775766600@stonehamhistoricalsociety.org
SUMMARY:Revere Beach: A Stroll Through Time
DESCRIPTION:The Lightning Roller coaster of the 1930s.\nFrom roller coasters and  roast beef to sand castles and muscle cars\, bring your memories of Revere Beach as Bob Upton\, creator of reverebeach.com\, takes us on a journey through time at Revere Beach. \nCreated in 1896\, the Revere Beach Reservation\, was designed by landscape designer\, Charles Eliot – also instrumental in creating the Middlesex Fells Reservation for the Metropolitan Park Commission.  For over 125 years\, Revere Beach has drawn visitors from around the world\, whether by bicycle\, horse-drawn carriage\, railway or motor car.  The Boulevard boasted rides\, dance-halls\, movie theaters\, carousels\, rollercoasters and all kinds of special attractions. \nMany of today’s baby-boomers are the children of those who fell in love at the Oceanview or Wonderland Ballrooms. Boomers themselves can still vividly remember the Virginia Reel\, Wild Mouse\, Dodgems and other rides and amusements. \nRecently designated as a National Historic Landmark\, Revere Beach is now officially recognized as “America’s First Public Beach.” Revere Beach holds a special place in the collective memories of thousands of folks throughout New England and the United States. \nDoors will open at 6:45 to view museum exhibits.  A brief business meeting at 7:15 will be followed by the talk at 7:30 pm.
URL:https://stonehamhistoricalsociety.org/event/revere-beach-a-stroll-through-time/
LOCATION:Stoneham Historical Society & Museum\, 36 William Street\, Stoneham\, MA\, 02180\, United States
CATEGORIES:Monthly Meeting,New England
ATTACH;FMTTYPE=image/jpeg:https://stonehamhistoricalsociety.org/wp-content/uploads/2026/02/wonderland-chutes-e1771255539885.jpg
END:VEVENT
END:VCALENDAR